BEGIN:VCALENDAR
VERSION:2.0
PRODID:-//Mission Working Dogs - ECPv6.15.20//NONSGML v1.0//EN
CALSCALE:GREGORIAN
METHOD:PUBLISH
X-WR-CALNAME:Mission Working Dogs
X-ORIGINAL-URL:https://www.missionworkingdogs.org
X-WR-CALDESC:Events for Mission Working Dogs
REFRESH-INTERVAL;VALUE=DURATION:PT1H
X-Robots-Tag:noindex
X-PUBLISHED-TTL:PT1H
BEGIN:VTIMEZONE
TZID:America/New_York
BEGIN:DAYLIGHT
TZOFFSETFROM:-0500
TZOFFSETTO:-0400
TZNAME:EDT
DTSTART:20240310T070000
END:DAYLIGHT
BEGIN:STANDARD
TZOFFSETFROM:-0400
TZOFFSETTO:-0500
TZNAME:EST
DTSTART:20241103T060000
END:STANDARD
BEGIN:DAYLIGHT
TZOFFSETFROM:-0500
TZOFFSETTO:-0400
TZNAME:EDT
DTSTART:20250309T070000
END:DAYLIGHT
BEGIN:STANDARD
TZOFFSETFROM:-0400
TZOFFSETTO:-0500
TZNAME:EST
DTSTART:20251102T060000
END:STANDARD
BEGIN:DAYLIGHT
TZOFFSETFROM:-0500
TZOFFSETTO:-0400
TZNAME:EDT
DTSTART:20260308T070000
END:DAYLIGHT
BEGIN:STANDARD
TZOFFSETFROM:-0400
TZOFFSETTO:-0500
TZNAME:EST
DTSTART:20261101T060000
END:STANDARD
END:VTIMEZONE
BEGIN:VTIMEZONE
TZID:UTC
BEGIN:STANDARD
TZOFFSETFROM:+0000
TZOFFSETTO:+0000
TZNAME:UTC
DTSTART:20240101T000000
END:STANDARD
END:VTIMEZONE
BEGIN:VEVENT
DTSTART;TZID=America/New_York:20250726T080000
DTEND;TZID=America/New_York:20250726T150000
DTSTAMP:20260421T153156
CREATED:20250714T151023Z
LAST-MODIFIED:20250714T151023Z
UID:5116-1753516800-1753542000@www.missionworkingdogs.org
SUMMARY:Yard Sale at the Mission Working Dogs Campus
DESCRIPTION:We will be hosting a yard sale on Saturday\, July 26 from 8 am to 3 pm.
URL:https://www.missionworkingdogs.org/event/yard-sale-at-the-mission-working-dogs-campus-2/
LOCATION:Mission Working Dogs Campus\, 152 Moxie's Place\, Oxford\, ME\, 04270\, United States
END:VEVENT
BEGIN:VEVENT
DTSTART;TZID=America/New_York:20250725T080000
DTEND;TZID=America/New_York:20250725T150000
DTSTAMP:20260421T153156
CREATED:20250714T150909Z
LAST-MODIFIED:20250714T150909Z
UID:5113-1753430400-1753455600@www.missionworkingdogs.org
SUMMARY:Yard Sale at the Mission Working Dogs Campus
DESCRIPTION:We will be hosting a yard sale on Friday\, July 25\, from 8 am to 3 pm.
URL:https://www.missionworkingdogs.org/event/yard-sale-at-the-mission-working-dogs-campus/
LOCATION:Mission Working Dogs Campus\, 152 Moxie's Place\, Oxford\, ME\, 04270\, United States
ORGANIZER;CN="Mission Working Dogs":MAILTO:info@missionworkingdogs.org
END:VEVENT
BEGIN:VEVENT
DTSTART;TZID=America/New_York:20250717T160000
DTEND;TZID=America/New_York:20250717T190000
DTSTAMP:20260421T153156
CREATED:20250710T143009Z
LAST-MODIFIED:20250714T150144Z
UID:4994-1752768000-1752778800@www.missionworkingdogs.org
SUMMARY:Dining For Good at Nonesuch River Brewing in Poland
DESCRIPTION:Come join us on Thursday\, July 17 from 4pm-7pm. Proceeds from that evening will benefit MWD!
URL:https://www.missionworkingdogs.org/event/dining-for-good-at-nonesuch-brewery-in-poland/
LOCATION:Nonesuch River Brewing\, 723 Maine St.\, Poland\, ME\, 04274\, United States
ORGANIZER;CN="Mission Working Dogs":MAILTO:info@missionworkingdogs.org
END:VEVENT
BEGIN:VEVENT
DTSTART;TZID=UTC:20250426T170000
DTEND;TZID=UTC:20250426T220000
DTSTAMP:20260421T153156
CREATED:20250124T044259Z
LAST-MODIFIED:20250124T044459Z
UID:4688-1745686800-1745704800@www.missionworkingdogs.org
SUMMARY:4th Annual Gala Presented by Unum
DESCRIPTION:Come join us for our 4th Annual Mission Working Dogs Gala! There will be a plated diner\, cash bar\, silent auction and more! Get fancy and meet some of our graduates as we work toward funding future generations of working dogs! Tickets are $125 per person or $800 per table\, subject to availability. VIP parking on site requiring advance purchase for $40 are also subject to limited availability. All other guests will be shuttled to the venue from a public parking lot nearby.
URL:https://www.missionworkingdogs.org/event/4th-annual-gala-presented-by-unum/
LOCATION:Granite Ridge Estate & Barn\, 127 Richards Way\, Norway\, ME\, 04268\, United States
ORGANIZER;CN="Mission Working Dogs":MAILTO:info@missionworkingdogs.org
END:VEVENT
END:VCALENDAR